BEGIN:VCALENDAR
VERSION:2.0
PRODID:icalendar-ruby
CALSCALE:GREGORIAN
METHOD:PUBLISH
BEGIN:VEVENT
DTSTAMP:20260423T132328Z
UID:34-402443@firstumclafayette.org
DTSTART:20260802T190000Z
DTEND:20260802T220000Z
CLASS:PUBLIC
CREATED:20260422T153412
DESCRIPTION:
LAST-MODIFIED:20260422T153412
LOCATION:Coors Field
SUMMARY:COLORADO ROCKIES FAITH DAY
URL;VALUE=URI:https://firstumclafayette.org/events/colorado-rockies-faith-d
 ay/2026-08-02
ATTACH;FILENAME=unnamed-1.png;FMTTYPE=image/png:https://dq5pwpg1q8ru0.cloud
 front.net/2026/04/22/21/34/12/3d77edfc-d2e4-4ede-a3d0-e44de5edeb9b/unnamed
 -1.png
END:VEVENT
END:VCALENDAR
