BEGIN:VCALENDAR
VERSION:2.0
PRODID:icalendar-ruby
CALSCALE:GREGORIAN
METHOD:PUBLISH
BEGIN:VEVENT
DTSTAMP:20260423T132234Z
UID:32-402178@firstumclafayette.org
DTSTART:20260516T150000Z
DTEND:20260516T230000Z
CLASS:PUBLIC
CREATED:20260422T151908
DESCRIPTION:Good Neighbor Day America isn’t about creating a complicated 
 program. It’s about churches across the country stepping out into their 
 communities on the same day to serve their neighbors.\nSome churches will 
 partner with a local nonprofit. Some will join an existing community proje
 ct. Others will simply mobilize a group of volunteers to meet a need in th
 eir neighborhood. There is no single model. The invitation is simple: step
  outside your church walls to serve.\nContact us for more information.
LAST-MODIFIED:20260422T151908
LOCATION:
SUMMARY:Good Neighbor Day
URL;VALUE=URI:https://firstumclafayette.org/events/good-neighbor-day/2026-0
 5-16
ATTACH;FILENAME=good-neighbor.png;FMTTYPE=image/png:https://dq5pwpg1q8ru0.c
 loudfront.net/2026/04/22/21/19/08/5f296609-abd2-4bc8-a7fa-84804f9d05f1/goo
 d-neighbor.png
END:VEVENT
END:VCALENDAR
