BEGIN:VCALENDAR
VERSION:2.0
PRODID:icalendar-ruby
CALSCALE:GREGORIAN
METHOD:PUBLISH
BEGIN:VEVENT
DTSTAMP:20260423T133108Z
UID:33-402179@firstumclafayette.org
DTSTART:20260531T160000Z
DTEND:20260531T170000Z
CLASS:PUBLIC
CREATED:20260422T152321
DESCRIPTION:
LAST-MODIFIED:20260422T152321
LOCATION:First United Methodist Church of Lafayette\, Colorado
SUMMARY:MUSIC SUNDAY
URL;VALUE=URI:https://firstumclafayette.org/events/music-sunday/2026-05-31
ATTACH;FILENAME=Bell-choir-Easter-Cantata-4-13-25.jpeg;FMTTYPE=image/jpeg:h
 ttps://dq5pwpg1q8ru0.cloudfront.net/2026/04/22/21/23/20/abcc0abb-be4c-4abc
 -95fc-9a2b314f2013/Bell-choir-Easter-Cantata-4-13-25.jpeg
ATTACH;FILENAME=choir_withPeople.jpg;FMTTYPE=image/jpeg:https://dq5pwpg1q8r
 u0.cloudfront.net/2026/04/22/21/23/20/dd247dd1-17bf-4033-9e07-0ec3fe764d2f
 /choir_withPeople.jpg
END:VEVENT
END:VCALENDAR
