BEGIN:VCALENDAR
VERSION:2.0
PRODID:icalendar-ruby
CALSCALE:GREGORIAN
METHOD:PUBLISH
BEGIN:VEVENT
DTSTAMP:20260422T121615Z
UID:5-401392@firstumclafayette.org
DTSTART:20261018T160000Z
DTEND:20261018T170000Z
CLASS:PUBLIC
CREATED:20260421T193319
DESCRIPTION:Sunday Worship
LAST-MODIFIED:20260421T193319
LOCATION:
SUMMARY:Sunday Worship
URL;VALUE=URI:https://firstumclafayette.org/events/sunday-worship/2026-10-1
 8
END:VEVENT
END:VCALENDAR
