BEGIN:VCALENDAR
VERSION:2.0
PRODID:icalendar-ruby
CALSCALE:GREGORIAN
METHOD:PUBLISH
BEGIN:VEVENT
DTSTAMP:20260422T134028Z
UID:5-401654@firstumclafayette.org
DTSTART:20261025T160000Z
DTEND:20261025T170000Z
CLASS:PUBLIC
CREATED:20260422T064127
DESCRIPTION:Sunday Worship
LAST-MODIFIED:20260422T064127
LOCATION:
SUMMARY:Sunday Worship
URL;VALUE=URI:https://firstumclafayette.org/events/sunday-worship/2026-10-2
 5
END:VEVENT
END:VCALENDAR
